BEGIN:VCALENDAR
VERSION:2.0
PRODID:-//annunciationmarblearch.org.uk//NONSGML kigkonsult.se iCalcreator 2.12//
X-WR-CALNAME:Annunciation calendar
X-WR-CALDESC:Annunciation Marble Arch
X-WR-TIMEZONE:Europe/London
BEGIN:VEVENT
UID:20260420T141657CEST-4359uLO0MK@annunciationmarblearch.org.uk
DTSTAMP:20260420T121657Z
CATEGORIES:CHURCH
DESCRIPTION:Worship at the Annuncation Marble Arch\n\nPreacher: \n\n\nDetai
 ls on Annuncation website: http://www.annunciationmarblearch.org.uk/worshi
 p/2882
DTSTART:20260507T123000
DURATION:PT1H
LOCATION:
SUMMARY:Worship: No Mass Today
URL:http://www.annunciationmarblearch.org.uk/worship/2882
BEGIN:VALARM
ACTION:DISPLAY
DESCRIPTION:Worship: No Mass Today
TRIGGER:-P1D
END:VALARM
END:VEVENT
END:VCALENDAR

