BEGIN:VCALENDAR
VERSION:2.0
PRODID:-//annunciationmarblearch.org.uk//NONSGML kigkonsult.se iCalcreator 2.12//
X-WR-CALNAME:Annunciation calendar
X-WR-CALDESC:Annunciation Marble Arch
X-WR-TIMEZONE:Europe/London
BEGIN:VEVENT
UID:20260425T151444CEST-1699xvpllE@annunciationmarblearch.org.uk
DTSTAMP:20260425T131444Z
CATEGORIES:CHURCH
DESCRIPTION:Free entry!\n\nDetails on Annuncation website: http://www.annun
 ciationmarblearch.org.uk/events/1148
DTSTART:20260502T190000
DURATION:PT0S
LOCATION:
SUMMARY: - Bahar Conceri Spring Concert
URL:http://www.annunciationmarblearch.org.uk/events/1148
BEGIN:VALARM
ACTION:DISPLAY
DESCRIPTION: - Bahar Conceri Spring Concert
TRIGGER:-P1D
END:VALARM
END:VEVENT
END:VCALENDAR

