BEGIN:VCALENDAR
VERSION:2.0
PRODID:-//annunciationmarblearch.org.uk//NONSGML kigkonsult.se iCalcreator 2.12//
X-WR-CALNAME:Annunciation calendar
X-WR-CALDESC:Annunciation Marble Arch
X-WR-TIMEZONE:Europe/London
BEGIN:VEVENT
UID:20260425T150921CEST-2463VKIvbh@annunciationmarblearch.org.uk
DTSTAMP:20260425T130921Z
CATEGORIES:CHURCH
DESCRIPTION:BSL teaching\, prayer\, and fellowship for the Deaf community.
 \n\nDetails on Annuncation website: http://www.annunciationmarblearch.org.
 uk/events/1146
DTSTART:20260522T183000
DURATION:PT0S
LOCATION:
SUMMARY: - Deaf Church
URL:http://www.annunciationmarblearch.org.uk/events/1146
BEGIN:VALARM
ACTION:DISPLAY
DESCRIPTION: - Deaf Church
TRIGGER:-P1D
END:VALARM
END:VEVENT
END:VCALENDAR

