BEGIN:VCALENDAR
VERSION:2.0
PRODID:-//annunciationmarblearch.org.uk//NONSGML kigkonsult.se iCalcreator 2.12//
X-WR-CALNAME:Annunciation calendar
X-WR-CALDESC:Annunciation Marble Arch
X-WR-TIMEZONE:Europe/London
BEGIN:VEVENT
UID:20260421T132734CEST-1347DeR1zw@annunciationmarblearch.org.uk
DTSTAMP:20260421T112734Z
CATEGORIES:CHURCH
DESCRIPTION:Students from London Music Fest perform at the Annunciation.\n
 \nDetails on Annuncation website: http://www.annunciationmarblearch.org.uk
 /events/1145
DTSTART:20260628T160000
DURATION:PT0S
LOCATION:
SUMMARY: - London Music Fest: Two Cities\, One Stage
URL:http://www.annunciationmarblearch.org.uk/events/1145
BEGIN:VALARM
ACTION:DISPLAY
DESCRIPTION: - London Music Fest: Two Cities\, One Stage
TRIGGER:-P1D
END:VALARM
END:VEVENT
END:VCALENDAR

