BEGIN:VCALENDAR
VERSION:2.0
PRODID:-//annunciationmarblearch.org.uk//NONSGML kigkonsult.se iCalcreator 2.12//
X-WR-CALNAME:Annunciation calendar
X-WR-CALDESC:Annunciation Marble Arch
X-WR-TIMEZONE:Europe/London
BEGIN:VEVENT
UID:20260420T141514CEST-1567XgVoI3@annunciationmarblearch.org.uk
DTSTAMP:20260420T121514Z
CATEGORIES:CHURCH
DESCRIPTION:Reception with the artists follows. Tickets available on Eventb
 rite.\n\nDetails on Annuncation website: http://www.annunciationmarblearch
 .org.uk/events/1144
DTSTART:20260510T183000
DURATION:PT0S
LOCATION:
SUMMARY: - Bach through Elgar&#039\;s Eyes - London Town Chamber Fest Conce
 rt
URL:http://www.annunciationmarblearch.org.uk/events/1144
BEGIN:VALARM
ACTION:DISPLAY
DESCRIPTION: - Bach through Elgar&#039\;s Eyes - London Town Chamber Fest C
 oncert
TRIGGER:-P1D
END:VALARM
END:VEVENT
END:VCALENDAR

