BEGIN:VCALENDAR
VERSION:2.0
PRODID:-//annunciationmarblearch.org.uk//NONSGML kigkonsult.se iCalcreator 2.12//
X-WR-CALNAME:Annunciation calendar
X-WR-CALDESC:Annunciation Marble Arch
X-WR-TIMEZONE:Europe/London
BEGIN:VEVENT
UID:20260420T141514CEST-0061Ta3dit@annunciationmarblearch.org.uk
DTSTAMP:20260420T121513Z
CATEGORIES:CHURCH
DESCRIPTION:Our Annual Parochial Church Meeting will be held after Mass on 
 Sunday 10 May. Includes election of Church Wardens\, as well as a financia
 l report from the trustees and presentation of accounts. \n\nDetails on An
 nuncation website: http://www.annunciationmarblearch.org.uk/events/1143
DTSTART:20260510T114500
DURATION:PT0S
LOCATION:
SUMMARY: - The Annual Parochial Church Meeting (APCM)
URL:http://www.annunciationmarblearch.org.uk/events/1143
BEGIN:VALARM
ACTION:DISPLAY
DESCRIPTION: - The Annual Parochial Church Meeting (APCM)
TRIGGER:-P1D
END:VALARM
END:VEVENT
END:VCALENDAR

